BEGIN:VCALENDAR
VERSION:2.0
PRODID:-//Fort Wayne Bonsai Club - ECPv6.15.20//NONSGML v1.0//EN
CALSCALE:GREGORIAN
METHOD:PUBLISH
X-WR-CALNAME:Fort Wayne Bonsai Club
X-ORIGINAL-URL:https://fortwaynebonsai.com
X-WR-CALDESC:Events for Fort Wayne Bonsai Club
REFRESH-INTERVAL;VALUE=DURATION:PT1H
X-Robots-Tag:noindex
X-PUBLISHED-TTL:PT1H
BEGIN:VTIMEZONE
TZID:America/Indiana/Indianapolis
BEGIN:DAYLIGHT
TZOFFSETFROM:-0500
TZOFFSETTO:-0400
TZNAME:EDT
DTSTART:20210314T070000
END:DAYLIGHT
BEGIN:STANDARD
TZOFFSETFROM:-0400
TZOFFSETTO:-0500
TZNAME:EST
DTSTART:20211107T060000
END:STANDARD
BEGIN:DAYLIGHT
TZOFFSETFROM:-0500
TZOFFSETTO:-0400
TZNAME:EDT
DTSTART:20220313T070000
END:DAYLIGHT
BEGIN:STANDARD
TZOFFSETFROM:-0400
TZOFFSETTO:-0500
TZNAME:EST
DTSTART:20221106T060000
END:STANDARD
BEGIN:DAYLIGHT
TZOFFSETFROM:-0500
TZOFFSETTO:-0400
TZNAME:EDT
DTSTART:20230312T070000
END:DAYLIGHT
BEGIN:STANDARD
TZOFFSETFROM:-0400
TZOFFSETTO:-0500
TZNAME:EST
DTSTART:20231105T060000
END:STANDARD
END:VTIMEZONE
BEGIN:VEVENT
DTSTART;TZID=America/Indiana/Indianapolis:20221119T103000
DTEND;TZID=America/Indiana/Indianapolis:20221119T123000
DTSTAMP:20260421T181235
CREATED:20221014T203027Z
LAST-MODIFIED:20221104T215934Z
UID:719-1668853800-1668861000@fortwaynebonsai.com
SUMMARY:BYOT Styling Workshop
DESCRIPTION:Bring Your Own Tree  – Styling Workshop. \nEmphasizing styling and design. Bring your own tools and wire if you want to work on your tree.\n\nThis is intended as more of a brain session. Thinking & presenting your design/styling dilemmas and getting ideas and feedback.\nIt is advised to bring a notepad for good reference.
URL:https://fortwaynebonsai.com/event/byot-styling-workshop/
LOCATION:Allen County Public Library – Little Turtle Branch\, 2201 Sherman Blvd\, Fort Wayne\, IN\, 46808\, United States
CATEGORIES:FWBC Events
END:VEVENT
END:VCALENDAR